{
 "currentVersion": 11.1,
 "cimVersion": "3.1.0",
 "serviceDescription": "Agency: TN Department of Transportation. Description: 1 ft. pixel resolution color imagery from the Middle Region flown during 2007 for the following counties: Sumner. Projection: TN State Plane NAD83 Feet.",
 "mapName": "Layers",
 "description": "Agency: TN Department of Transportation. Description: 1 ft. pixel resolution color imagery from the Middle Region flown during 2007 for the following counties: Sumner. Projection: TN State Plane NAD83 Feet.",
 "copyrightText": "TDOT",
 "supportsDynamicLayers": true,
 "layers": [
  {
   "id": 0,
   "name": "Middle 2007 1ft",
   "parentLayerId": -1,
   "defaultVisibility": true,
   "subLayerIds": null,
   "minScale": 0,
   "maxScale": 0,
   "type": "Feature Layer",
   "geometryType": "esriGeometryPolygon",
   "supportsDynamicLegends": true
  }
 ],
 "tables": [],
 "spatialReference": {
  "wkid": 102736,
  "latestWkid": 2274,
  "xyTolerance": 0.003280833333333333,
  "zTolerance": 2,
  "mTolerance": 2,
  "falseX": -121521300,
  "falseY": -93934000,
  "xyUnits": 3.646940579198035E7,
  "falseZ": 0,
  "zUnits": 1,
  "falseM": -100000,
  "mUnits": 10000
 },
 "singleFusedMapCache": true,
 "tileInfo": {
  "rows": 256,
  "cols": 256,
  "dpi": 96,
  "format": "JPEG",
  "compressionQuality": 45,
  "origin": {
   "x": -121521300,
   "y": 153045600
  },
  "spatialReference": {
   "wkid": 102736,
   "latestWkid": 2274,
   "xyTolerance": 0.0032808333333333335,
   "zTolerance": 0.001,
   "mTolerance": 0.001,
   "falseX": -121521300,
   "falseY": -93934000,
   "xyUnits": 3.646940579198035E7,
   "falseZ": -100000,
   "zUnits": 10000,
   "falseM": -100000,
   "mUnits": 10000
  },
  "lods": [
   {
    "level": 0,
    "resolution": 8680.555555555557,
    "scale": 10000000
   },
   {
    "level": 1,
    "resolution": 6076.38888888889,
    "scale": 7000000
   },
   {
    "level": 2,
    "resolution": 3555.5555555555557,
    "scale": 4096000
   },
   {
    "level": 3,
    "resolution": 1777.7777777777778,
    "scale": 2048000
   },
   {
    "level": 4,
    "resolution": 888.8888888888889,
    "scale": 1024000
   },
   {
    "level": 5,
    "resolution": 444.44444444444446,
    "scale": 512000
   },
   {
    "level": 6,
    "resolution": 222.22222222222223,
    "scale": 256000
   },
   {
    "level": 7,
    "resolution": 111.11111111111111,
    "scale": 128000
   },
   {
    "level": 8,
    "resolution": 55.55555555555556,
    "scale": 64000
   },
   {
    "level": 9,
    "resolution": 27.77777777777778,
    "scale": 32000
   },
   {
    "level": 10,
    "resolution": 13.88888888888889,
    "scale": 16000
   },
   {
    "level": 11,
    "resolution": 8.333333333333334,
    "scale": 9600
   },
   {
    "level": 12,
    "resolution": 4.166666666666667,
    "scale": 4800
   },
   {
    "level": 13,
    "resolution": 2.604166666666667,
    "scale": 3000
   },
   {
    "level": 14,
    "resolution": 0.8680555555555556,
    "scale": 1000
   }
  ]
 },
 "storageInfo": {
  "storageFormat": "esriMapCacheStorageModeCompact",
  "packetSize": 128
 },
 "initialExtent": {
  "xmin": 1693185.7944892922,
  "ymin": 795127.9247758689,
  "xmax": 1886027.8251252335,
  "ymax": 931300.0230699023,
  "spatialReference": {
   "wkid": 102736,
   "latestWkid": 2274,
   "xyTolerance": 0.003280833333333333,
   "zTolerance": 2,
   "mTolerance": 2,
   "falseX": -121521300,
   "falseY": -93934000,
   "xyUnits": 3.646940579198035E7,
   "falseZ": 0,
   "zUnits": 1,
   "falseM": -100000,
   "mUnits": 10000
  }
 },
 "fullExtent": {
  "xmin": 677977.3368489444,
  "ymin": 236914.201758191,
  "xmax": 3245808.075849116,
  "ymax": 859973.3437607735,
  "spatialReference": {
   "wkid": 102736,
   "latestWkid": 2274,
   "xyTolerance": 0.003280833333333333,
   "zTolerance": 2,
   "mTolerance": 2,
   "falseX": -121521300,
   "falseY": -93934000,
   "xyUnits": 3.646940579198035E7,
   "falseZ": 0,
   "zUnits": 1,
   "falseM": -100000,
   "mUnits": 10000
  }
 },
 "datesInUnknownTimezone": false,
 "minScale": 10000000,
 "maxScale": 1000,
 "units": "esriFeet",
 "supportedImageFormatTypes": "PNG32,PNG24,PNG,JPG,DIB,TIFF,EMF,PS,PDF,GIF,SVG,SVGZ,BMP",
 "documentInfo": {
  "Title": "Layers",
  "Author": "",
  "Comments": "Agency: TN Department of Transportation. Description: 1 ft. pixel resolution color imagery from the Middle Region flown during 2007 for the following counties: Sumner. Projection: TN State Plane NAD83 Feet.",
  "Subject": "2007 Imagery for the Middle Region.",
  "Category": "",
  "Version": "2.9.0",
  "AntialiasingMode": "Fast",
  "TextAntialiasingMode": "Force",
  "Keywords": "imagery,ortho,orthophotography"
 },
 "capabilities": "Map,Query,Data",
 "supportedQueryFormats": "JSON, geoJSON, PBF",
 "exportTilesAllowed": false,
 "referenceScale": 0.0,
 "supportsDatumTransformation": true,
 "archivingInfo": {
  "supportsHistoricMoment": false
 },
 "supportsClipping": true,
 "supportsSpatialFilter": true,
 "supportsTimeRelation": true,
 "supportsQueryDataElements": true,
 "mapUnits": {
  "uwkid": 9003
 },
 "maxRecordCount": 2000,
 "maxImageHeight": 4096,
 "maxImageWidth": 4096,
 "supportedExtensions": "KmlServer, WMSServer"
}
