View In:
ArcGIS JavaScript
ArcGIS Online Map Viewer
ArcGIS Earth
ArcGIS Pro
Service Description: <DIV STYLE="text-align:Left;font-size:12pt"><P><SPAN>This map service is made from TDOT orthoimagery flown by the Tennessee Department of Transportation(TDOT) - Aerial Surveys. The source imagery has a resolution 1 foot (pre-2022 flights) and is 6 inch (2022 - present). TDOT Aerial Surveys collects 1 TDOT Region per year. The service is updated on a county-by-county basis as new imagery is made available. Projection: Web Mercator.</SPAN></P></DIV>
Map Name: Layers
Legend
All Layers and Tables
Layers:
Description: <DIV STYLE="text-align:Left;font-size:12pt"><P><SPAN>This map service is made from TDOT orthoimagery flown by the Tennessee Department of Transportation(TDOT) - Aerial Surveys. The source imagery has a resolution 1 foot (pre-2022 flights) and is 6 inch (2022 - present). TDOT Aerial Surveys collects 1 TDOT Region per year. The service is updated on a county-by-county basis as new imagery is made available. Projection: Web Mercator.</SPAN></P></DIV>
Copyright Text: TDOT Aerial Surveys
Spatial Reference:
102100
(3857)
LatestVCSWkid(0)
Single Fused Map Cache: true
Tile Info:
- Height: 256.0
- Width: 256.0
- DPI: 96.0
-
Levels of Detail: 24
-
Level ID: 1
[ Start Tile, End Tile ]
- Resolution: 78271.5169639999
- Scale: 2.95828763795777E8
-
Level ID: 2
[ Start Tile, End Tile ]
- Resolution: 39135.7584820001
- Scale: 1.47914381897889E8
-
Level ID: 3
[ Start Tile, End Tile ]
- Resolution: 19567.8792409999
- Scale: 7.3957190948944E7
-
Level ID: 4
[ Start Tile, End Tile ]
- Resolution: 9783.93962049996
- Scale: 3.6978595474472E7
-
Level ID: 5
[ Start Tile, End Tile ]
- Resolution: 4891.96981024998
- Scale: 1.8489297737236E7
- Format: MIXED
- Compression Quality: 75.0
- Origin: X: -2.0037508342787E7
Y: 2.0037508342787E7
- Spatial Reference: 102100
(3857)
LatestVCSWkid(0)
Storage Info:
- Storage Format: esriMapCacheStorageModeCompactV2
- Packet Size: 128
Initial Extent:
XMin: -9659778.314588025
YMin: 4257922.852959995
XMax: -9541471.87628021
YMax: 4356989.557361185
Spatial Reference: 102100
(0)
LatestVCSWkid(0)
Full Extent:
XMin: -1.1693235853831107E7
YMin: 3225335.253612327
XMax: -7449310.699314131
YMax: 5328776.96049574
Spatial Reference: 102100
(0)
LatestVCSWkid(0)
Units: esriMeters
Supported Image Format Types: PNG32,PNG24,PNG,JPG,DIB,TIFF,EMF,PS,PDF,GIF,SVG,SVGZ,BMP
Document Info:
Title: Layers
Author:
Comments: <DIV STYLE="text-align:Left;font-size:12pt"><P><SPAN>This map service is made from TDOT orthoimagery flown by the Tennessee Department of Transportation(TDOT) - Aerial Surveys. The source imagery has a resolution 1 foot (pre-2022 flights) and is 6 inch (2022 - present). TDOT Aerial Surveys collects 1 TDOT Region per year. The service is updated on a county-by-county basis as new imagery is made available. Projection: Web Mercator.</SPAN></P></DIV>
Subject: This map service is made from TDOT orthoimagery flown by TDOT- Aerial Surveys. The source imagery has a resolution 1 foot (pre-2022) and is 6 inch (post-2022). TDOT Aerial Surveys collects 1 TDOT Region per year. The service is updated on a county-by-county basis as new imagery is made available. Projection: Web Mercator.
Category:
Keywords: TNMap,imagery,ortho,orthophotography,Tennessee
AntialiasingMode: Fast
TextAntialiasingMode: Force
Supports Dynamic Layers: false
Resampling: false
MaxRecordCount: 2000
MaxImageHeight: 4096
MaxImageWidth: 4096
Supported Query Formats: JSON, geoJSON, PBF
Supports Query Data Elements: true
Min Scale: 9244648.868618
Max Scale: 1128.497176
Supports Datum Transformation: true
Child Resources:
Info
Supported Operations:
Export Map
Identify
QueryLegends
QueryDomains
Find
Return Updates
Generate KML