View In:
ArcGIS JavaScript
ArcGIS Online Map Viewer
ArcGIS Earth
ArcGIS Pro
Service Description: Imagery captured on 12/1/2016 by Digital Globe World View 3 Satellite (VNIR Sensor) of the Gatlinburg area post forest fires. Projection: Web Mercator (3857)
Map Name: Layers
Legend
All Layers and Tables
Dynamic Legend
Dynamic All Layers
Layers:
Description: Imagery captured on 12/1/2016 by Digital Globe World View 3 Satellite (VNIR Sensor) of the Gatlinburg area post forest fires. Projection: Web Mercator (3857)
Copyright Text: Digital Globe 2016
Spatial Reference:
102100
(3857)
LatestVCSWkid(0)
Single Fused Map Cache: true
Tile Info:
- Height: 256.0
- Width: 256.0
- DPI: 96.0
-
Levels of Detail: 20
-
Level ID: 0
[ Start Tile, End Tile ]
- Resolution: 156543.03392800014
- Scale: 5.91657527591555E8
-
Level ID: 1
[ Start Tile, End Tile ]
- Resolution: 78271.51696399994
- Scale: 2.95828763795777E8
-
Level ID: 2
[ Start Tile, End Tile ]
- Resolution: 39135.75848200009
- Scale: 1.47914381897889E8
-
Level ID: 3
[ Start Tile, End Tile ]
- Resolution: 19567.87924099992
- Scale: 7.3957190948944E7
-
Level ID: 4
[ Start Tile, End Tile ]
- Resolution: 9783.93962049996
- Scale: 3.6978595474472E7
-
Level ID: 5
[ Start Tile, End Tile ]
- Resolution: 4891.96981024998
- Scale: 1.8489297737236E7
- Format: MIXED
- Compression Quality: 75.0
- Origin: X: -2.0037508342787E7
Y: 2.0037508342787E7
- Spatial Reference: 102100
(3857)
LatestVCSWkid(0)
Storage Info:
- Storage Format: esriMapCacheStorageModeCompact
- Packet Size: 128
Initial Extent:
XMin: -9325489.0439635
YMin: 4243875.850400951
XMax: -9276183.728258722
YMax: 4278691.954931837
Spatial Reference: 102100
(0)
LatestVCSWkid(0)
Full Extent:
XMin: -9320749.593422221
YMin: 4245458.4006069
XMax: -9280923.178799998
YMax: 4277109.404725887
Spatial Reference: 102100
(0)
LatestVCSWkid(0)
Units: esriMeters
Supported Image Format Types: PNG32,PNG24,PNG,JPG,DIB,TIFF,EMF,PS,PDF,GIF,SVG,SVGZ,BMP
Document Info:
Title: service_template_working.aprx
Author:
Comments: Imagery captured on 12/1/2016 by Digital Globe World View 3 Satellite (VNIR Sensor) of the Gatlinburg area post forest fires. Projection: Web Mercator (3857)
Subject: Imagery captured on 12/1/2016 by Digital Globe World View 3 Satellite (VNIR Sensor) of the Gatlinburg area post forest fires. Projection: Web Mercator (3857)
Category:
Keywords: Imagery
AntialiasingMode: Fast
TextAntialiasingMode: Force
Supports Dynamic Layers: true
Resampling: true
MaxRecordCount: 2000
MaxImageHeight: 4096
MaxImageWidth: 4096
Supported Query Formats: JSON, geoJSON, PBF
Supports Query Data Elements: true
Min Scale: 288895.277144
Max Scale: 282.124294
Supports Datum Transformation: true
Child Resources:
Info
Dynamic Layer
Supported Operations:
Export Map
Identify
QueryLegends
QueryDomains
Find
Return Updates
Generate KML